BEGIN:VCALENDAR
VERSION:2.0
PRODID:-//ChamberMaster//Event Calendar 2.0//EN
METHOD:PUBLISH
X-PUBLISHED-TTL:P3D
REFRESH-INTERVAL:P3D
CALSCALE:GREGORIAN
BEGIN:VEVENT
DTSTART:20240503T213000Z
DTEND:20240503T233000Z
X-MICROSOFT-CDO-ALLDAYEVENT:FALSE
SUMMARY:Abstract Exhibit- Opening Reception
DESCRIPTION:Abstract Exhibit- Opening Reception - May 3\, 2024\n\n5:30pm-7:30pm\n\nExhibitors Include- Carolyn Dunford\, Anne Morse\,CJ Conrad\, Anne Flash\, Bernadette Waystack\, David CRavenho\, Roe Osborn\, Taylor Fox\, Deborah Fowler Greenwood\, Georgene Riedl\, Kim Gagne\, Nettie B Berkley\, Cindy Ennes\, Heather MacKenize\, Jodi French\, John Bonanni\, Joanne Patukonis\, Ellen Davis David Holbrook\, Andre Van Der Wende
X-ALT-DESC;FMTTYPE=text/html:<p><strong style="color: rgb(178\, 34\, 34)\; font-family: &quot\;comic sans ms&quot\;\; font-size: 16px\;">Abstract Exhibit- Opening Reception - May 3\, 2024</strong><br />\n<span style="font-size:16px\;"><span style="font-family:comic sans ms\;"><span style="color:#B22222\;"><strong>5:30pm-7:30pm</strong></span></span></span></p>\n\n<p><span style="font-size:16px\;"><span style="font-family:comic sans ms\;"><span style="color:#B22222\;"><strong>Exhibitors Include- Carolyn Dunford\, Anne Morse\,CJ Conrad\, Anne Flash\, Bernadette Waystack\, David CRavenho\, Roe Osborn\, Taylor Fox\, Deborah Fowler Greenwood\, Georgene Riedl\, Kim Gagne\, Nettie B Berkley\, Cindy Ennes\, Heather MacKenize\, Jodi French\, John Bonanni\, Joanne Patukonis\, Ellen Davis David Holbrook\, Andre Van Der Wende</strong></span></span></span></p>\n
LOCATION:The 204 Cultural Arts Muncipal Building 204 Sisson Road Harwich\, MA
UID:e.1945.25226
SEQUENCE:3
DTSTAMP:20260420T173220Z
URL:http://harwichcc.chambermaster.com/events/details/abstract-exhibit-opening-reception-25226
END:VEVENT

END:VCALENDAR
