BEGIN:VCALENDAR
VERSION:2.0
PRODID:-//ChamberMaster//Event Calendar 2.0//EN
METHOD:PUBLISH
X-PUBLISHED-TTL:P3D
REFRESH-INTERVAL:P3D
CALSCALE:GREGORIAN
BEGIN:VEVENT
DTSTART:20231203T003000Z
DTEND:20231203T023000Z
X-MICROSOFT-CDO-ALLDAYEVENT:FALSE
SUMMARY:An Evening with John McCutheon
DESCRIPTION:John McCutcheon folk music's renaissance man  \n\nmaster instrumentalist\, powerful singer-songwriter\, storyteller\, activist\, and author
X-ALT-DESC;FMTTYPE=text/html:<strong style="overflow-wrap: break-word\; color: rgba(26\, 26\, 26\, 0.7)\; font-family: adobe-garamond-pro\; font-size: 18px\; white-space-collapse: preserve\; background-color: rgb(255\, 255\, 255)\;">John McCutcheon <em style="overflow-wrap: break-word\;">folk music&#39\;s renaissance man &mdash\;<br style="overflow-wrap: break-word\;" />\nmaster instrumentalist\, powerful singer-songwriter\, storyteller\, activist\, and author</em></strong>
LOCATION:204 Sisson Road
UID:e.1945.25037
SEQUENCE:3
DTSTAMP:20260424T040241Z
URL:http://harwichcc.chambermaster.com/events/details/an-evening-with-john-mccutheon-25037
END:VEVENT

END:VCALENDAR
