BEGIN:VCALENDAR
VERSION:2.0
PRODID:-//ChamberMaster//Event Calendar 2.0//EN
METHOD:PUBLISH
X-PUBLISHED-TTL:P3D
REFRESH-INTERVAL:P3D
CALSCALE:GREGORIAN
BEGIN:VEVENT
DTSTART:20230615T220000Z
DTEND:20230615T230000Z
X-MICROSOFT-CDO-ALLDAYEVENT:FALSE
SUMMARY:Boatbuilding & Design
DESCRIPTION:The Alliance continues its A Celebration of Nantucket Sound (ACONS) webinar series with a look at Boatbuilding and Design. The guest speaker is master boatbuilder and co-founder of Gannon & Benjamin Marine Railway\, Nat Benjamin. Nat will speak about boat design and building methods\, as well as the rich history of boatbuilding in Cape Cod waters and the history of wooden boats in Nantucket Sound. Nat will also share some of his own work\, such as the 65  schooner\, Juno.\n\nA Live Q&A with Nat and Alliance president Audra Parker will follow the presentation.\n\nRegister for free at: https://tinyurl.com/SOS-Boatbuilding\n\nMore on Nat Benjamin:\n\nNat Benjamin has been sailing since his youth\, doing his first offshore delivery to St. Thomas when he was 20. When he arrived in the Caribbean in 1967\, there were many classic wooden yachts in the charter fleet including old schooners\, ketches and yawls from the golden age of yacht design. Since then\, Nat has delivered yachts and skippered charter boats across the Atlantic\, through the Mediterranean\, and to and from New England to the Caribbean. In 1972 Nat and his wife\, Pam\, sailed into Vineyard Haven Harbor on Martha's Vineyard on a 1921 Johan Anker 10-meter class sloop.\n\nIn 1980\, Nat\, along with Ross Gannon\, founded the Gannon & Benjamin Marine Railway\, a boatyard that specializes in the design\, construction\, repair\, and maintenance of wooden boats. Since its founding\, Gannon & Benjamin has built over 70 boats\, ranging in size from 8' yacht tenders to the 65' schooner Juno. In 1998\, a second shop was built across the street for the construction of the 60 ft. schooner\, Rebecca\, launched in 2001. At the beginning of 2023\, construction began on the 26' gaff sloop\, Marta Nat's design number\, 100.\n\nMore info on the Alliance's ACONS series at www.saveoursound.org/acons.
X-ALT-DESC;FMTTYPE=text/html:<p><span style="font-size:11.0pt">The Alliance continues its <strong><em>A Celebration of Nantucket Sound</em></strong> (<strong>ACONS</strong>) webinar&nbsp\;series with a look at <strong><em>Boatbuilding and Design</em></strong>. The guest speaker is master boatbuilder&nbsp\;and co-founder of Gannon &amp\; Benjamin Marine Railway\,&nbsp\;<strong>Nat Benjamin</strong>. Nat will speak about boat design and building methods\, as well as the rich history of boatbuilding in Cape Cod waters and the history of wooden boats in Nantucket Sound. Nat will also share some of his own work\, such as the 65&prime\; schooner\, <strong>Juno</strong>.</span></p>\n\n<p><span style="font-size:11.0pt">A Live Q&amp\;A with Nat and Alliance president Audra Parker will follow the presentation.</span></p>\n\n<p><span style="font-size:11.0pt">Register for free at:&nbsp\;<a href="https://tinyurl.com/SOS-Boatbuilding">https://tinyurl.com/SOS-Boatbuilding</a></span></p>\n\n<p><u><strong><span style="font-size:11.0pt">More on Nat Benjamin:</span></strong></u></p>\n\n<p><span style="font-size:11.0pt">Nat Benjamin has been sailing since his youth\, doing his first offshore delivery to St. Thomas when he was 20. When he arrived in the Caribbean in 1967\, there were many classic wooden yachts in the charter fleet including old schooners\, ketches and yawls from the golden age of yacht design. Since then\, Nat has delivered yachts and skippered charter boats across the Atlantic\, through the Mediterranean\, and to and from New England to the Caribbean. In 1972 Nat and his wife\, Pam\, sailed into Vineyard Haven Harbor on Martha&rsquo\;s Vineyard on a 1921 Johan Anker 10-meter class sloop.</span></p>\n\n<p><span style="font-size:11.0pt">In 1980\, Nat\, along with Ross Gannon\, founded the <strong>Gannon &amp\; Benjamin Marine Railway</strong>\, a boatyard that specializes in the design\, construction\, repair\, and maintenance of wooden boats. Since its founding\, Gannon &amp\; Benjamin has built over 70 boats\, ranging in size from 8&#39\; yacht tenders to the 65&#39\; schooner Juno. In 1998\, a second shop was built across the street for the construction of the 60 ft. schooner\, Rebecca\, launched in 2001. At the beginning of 2023\, construction began on the 26&#39\; gaff sloop\, Marta&mdash\;Nat&rsquo\;s design number\, 100.</span></p>\n\n<p><span style="font-size:11.0pt">More info on the Alliance&#39\;s ACONS series at&nbsp\;<a href="https://l.facebook.com/l.php?u=http%3A%2F%2Fwww.saveoursound.org%2Facons%3Ffbclid%3DIwAR3w7XO0iFLwHe8Al0Rm8jX8RGoqEMHXYU5Wrrnr_ksOcUqKAGgRQzdj8DU&amp\;h=AT2pRLwhdPIXczMuKDuCzM6nuzv3k17p88dKo664XEEePahQO83xfYm316CFYnKSO-AYrACsXrM_x-qXHe9zhR37BDDkqWWMpMsEVtpkPZPYh2EYRROSlpmt_49aDUJxswBh8-yWtZ6MNaaP-Q&amp\;__tn__=q&amp\;c[0]=AT3FdfaEgy632gWVVgGRANbA9RuSf_lSgr4Cwi5z4wSkhUYQgTJam8WqgdZq_NjCagPNfnjEv-XiIi_xYw1HHrFNFXEaTIJLx_xKraIz0rLBk1aNR5YCf6-fCwjpNQCQ--o2H96j1G62Xsus7SSiO9AVLZgZ" target="_blank">www.saveoursound.org/acons</a>.&nbsp\;</span></p>\n
LOCATION:Virtual\; on Zoom
UID:e.1945.24500
SEQUENCE:3
DTSTAMP:20260423T212618Z
URL:http://harwichcc.chambermaster.com/events/details/boatbuilding-design-24500
END:VEVENT

END:VCALENDAR
