BEGIN:VCALENDAR
VERSION:2.0
PRODID:-//ChamberMaster//Event Calendar 2.0//EN
METHOD:PUBLISH
X-PUBLISHED-TTL:P3D
REFRESH-INTERVAL:P3D
CALSCALE:GREGORIAN
BEGIN:VEVENT
DTSTART:20240924T140000Z
DTEND:20240924T160000Z
X-MICROSOFT-CDO-ALLDAYEVENT:FALSE
SUMMARY:Cape Cod Healthcare Cancer Program Update
DESCRIPTION:Katie Michaud\, MPA\, FACHE\, Executive Director of Oncology Services & Gabor Menyhart\, MS\, DABR\, Chief of Medical Physics\, both of Cape Cod Hospital will share the many facets of providing expert Cancer Care to our Cape Cod Community.
X-ALT-DESC;FMTTYPE=text/html:Katie Michaud\, MPA\, FACHE\, Executive Director of Oncology Services &amp\; Gabor Menyhart\, MS\, DABR\, Chief of Medical Physics\, both of Cape Cod Hospital will share the many facets of providing expert Cancer Care to our Cape Cod Community.
LOCATION:Chatham Community Center 702 Main Street - 2nd Fl large Mtg room Chatham\, MA 02633
UID:e.1945.25300
SEQUENCE:3
DTSTAMP:20260419T205736Z
URL:http://harwichcc.chambermaster.com/events/details/cape-cod-healthcare-cancer-program-update-25300
END:VEVENT

END:VCALENDAR
