BEGIN:VCALENDAR
VERSION:2.0
PRODID:-//ChamberMaster//Event Calendar 2.0//EN
METHOD:PUBLISH
X-PUBLISHED-TTL:P3D
REFRESH-INTERVAL:P3D
CALSCALE:GREGORIAN
BEGIN:VEVENT
DTSTART:20240505T140000Z
DTEND:20240505T180000Z
X-MICROSOFT-CDO-ALLDAYEVENT:FALSE
SUMMARY:Cinco de Mayo Brunch
DESCRIPTION:Indulge in a stylish Cinco de Mayo celebration! Take in the stunning vistas of Pleasant Bay as you relish a lavish buffet brunch featuring both traditional Mexican favorites and innovative dishes with a modern flair. Raise a toast to the morning with a revitalizing margarita crafted with Codigo tequila and so much more!  Get ready to move your hips and sway to the irresistible Latin rhythms performed by the Mark Greel Trio! Their lively tunes will set the stage for an unforgettable brunch filled with vibrant melodies and infectious beats.
X-ALT-DESC;FMTTYPE=text/html:<span style="color:rgb(0\, 0\, 0)\; font-family:calluna\,serif\; font-size:20px">Indulge in a stylish Cinco de Mayo celebration! Take in the stunning vistas of Pleasant Bay as you relish a lavish buffet brunch featuring both traditional Mexican favorites and innovative dishes with a modern flair. Raise a toast to the morning with a revitalizing margarita crafted with Codigo tequila and so much more!&nbsp\;&nbsp\;Get ready to move your hips and sway to the irresistible Latin rhythms performed by the Mark Greel Trio! Their lively tunes will set the stage for an unforgettable brunch filled with vibrant melodies and infectious beats.</span>
LOCATION:Outer Bar
UID:e.1945.25192
SEQUENCE:3
DTSTAMP:20260419T215707Z
URL:http://harwichcc.chambermaster.com/events/details/cinco-de-mayo-brunch-25192
END:VEVENT

END:VCALENDAR
