BEGIN:VCALENDAR
VERSION:2.0
PRODID:-//ChamberMaster//Event Calendar 2.0//EN
METHOD:PUBLISH
X-PUBLISHED-TTL:P3D
REFRESH-INTERVAL:P3D
CALSCALE:GREGORIAN
BEGIN:VEVENT
DTSTART:20240505T170000Z
DTEND:20240505T190000Z
X-MICROSOFT-CDO-ALLDAYEVENT:FALSE
SUMMARY:Community Paint Along
DESCRIPTION:Join our 204 Artist Bernadette Waystack as we are guided through creating a beach scene. Reserve a seat today visit 204sisson.com Limit 50 people.
X-ALT-DESC;FMTTYPE=text/html:<span style="color:#DAA520\;"><span style="font-size:16px\;"><strong>Join our 204 Artist Bernadette Waystack as we are guided through creating a beach scene. Reserve a seat today visit 204sisson.com Limit 50 people.</strong></span></span>
LOCATION:The 204 Cultural Arts Municipal Building
UID:e.1945.25228
SEQUENCE:3
DTSTAMP:20260419T185452Z
URL:http://harwichcc.chambermaster.com/events/details/community-paint-along-25228
END:VEVENT

END:VCALENDAR
