BEGIN:VCALENDAR
VERSION:2.0
PRODID:-//ChamberMaster//Event Calendar 2.0//EN
METHOD:PUBLISH
X-PUBLISHED-TTL:P3D
REFRESH-INTERVAL:P3D
CALSCALE:GREGORIAN
BEGIN:VEVENT
DTSTART:20240405T213000Z
DTEND:20240405T230000Z
X-MICROSOFT-CDO-ALLDAYEVENT:FALSE
SUMMARY:Community Spaghetti Dinner Trivia Night
DESCRIPTION:Harwich Community Center Presents Community Spaghetti Dinner and Trivia Night- Our spaghetti dinner is back by popular demand and this time with a fun TRIVIA NIGHT twist! \n\nServe 5:30pm-7:30pm or until we run out
X-ALT-DESC;FMTTYPE=text/html:<p><span style="font-size:18px\;"><span style="font-family:tahoma\;"><span style="color:#0000CD\;"><strong>Harwich Community Center Presents Community Spaghetti Dinner and Trivia Night- Our spaghetti dinner is back by popular demand and this time with a fun TRIVIA NIGHT twist!&nbsp\;</strong></span></span></span></p>\n\n<p><span style="font-size:18px\;"><span style="font-family:tahoma\;"><span style="color:#0000CD\;"><strong>Serve 5:30pm-7:30pm or until we run out</strong></span></span></span></p>\n
LOCATION:Harwich Community Center 100 Oak Street
UID:e.1945.25201
SEQUENCE:3
DTSTAMP:20260423T023545Z
URL:http://harwichcc.chambermaster.com/events/details/community-spaghetti-dinner-trivia-night-25201
END:VEVENT

END:VCALENDAR
