BEGIN:VCALENDAR
VERSION:2.0
PRODID:-//ChamberMaster//Event Calendar 2.0//EN
METHOD:PUBLISH
X-PUBLISHED-TTL:P3D
REFRESH-INTERVAL:P3D
CALSCALE:GREGORIAN
BEGIN:VEVENT
DTSTART:20240613T210000Z
DTEND:20240614T010000Z
X-MICROSOFT-CDO-ALLDAYEVENT:FALSE
SUMMARY:From Cape Town to Cape Cod
DESCRIPTION:Join us for an unforgettable evening as we partner with Truro Vineyards to bring you an evening filled with delightful experiences. Chef de Cuisine Frans Braamse of Wequassett and winemaker Jacques van der Vyver from Truro Vineyards both hailing from South Africa  unite to create a vibrant experience filled with South African inspired cuisine and exceptional wines from Truro Vineyards.  The evening will feature diverse food stations inspired by South African cuisine that are paired with a selection of exquisite wines from Truro Vineyards.
X-ALT-DESC;FMTTYPE=text/html:<span style="color:rgb(29\, 16\, 44)\; font-family:museo sans w01\,helvetica neue\,helvetica\,helvetica\,arial\,sans-serif\; font-size:14px">Join us for an unforgettable evening as we partner with Truro Vineyards to bring you an evening filled with delightful experiences. Chef de Cuisine Frans Braamse of Wequassett and winemaker Jacques van der Vyver from Truro Vineyards&mdash\;both hailing from South Africa&mdash\; unite to create a vibrant experience filled with South African inspired cuisine and exceptional wines from Truro Vineyards.&nbsp\; The evening will feature diverse food stations inspired by South African cuisine that are paired with a selection of exquisite wines from Truro Vineyards.&nbsp\;&nbsp\;&nbsp\;</span>
LOCATION:Wequassett Resort Garden Terrace
UID:e.1945.25233
SEQUENCE:3
DTSTAMP:20260419T141250Z
URL:http://harwichcc.chambermaster.com/events/details/from-cape-town-to-cape-cod-25233
END:VEVENT

END:VCALENDAR
