BEGIN:VCALENDAR
VERSION:2.0
PRODID:-//ChamberMaster//Event Calendar 2.0//EN
METHOD:PUBLISH
X-PUBLISHED-TTL:P3D
REFRESH-INTERVAL:P3D
CALSCALE:GREGORIAN
BEGIN:VEVENT
DTSTART:20240418T213000Z
DTEND:20240418T223000Z
X-MICROSOFT-CDO-ALLDAYEVENT:FALSE
SUMMARY:Game Night
DESCRIPTION:Harwich Community Ceter Presents Game Night\n\nCard games\, board games\, puzzles and more
X-ALT-DESC;FMTTYPE=text/html:<p><span style="color:#A52A2A\;"><span style="font-size:16px\;"><strong><span style="font-family:tahoma\;">Harwich Community Ceter Presents Game Night</span></strong></span></span></p>\n\n<p><span style="color:#A52A2A\;"><span style="font-size:16px\;"><strong><span style="font-family:tahoma\;">Card games\, board games\, puzzles and more</span></strong></span></span></p>\n\n<p>&nbsp\;</p>\n
LOCATION:Harwich Community Center 100 Oak Street
UID:e.1945.25198
SEQUENCE:3
DTSTAMP:20260419T134742Z
URL:http://harwichcc.chambermaster.com/events/details/game-night-25198
END:VEVENT

END:VCALENDAR
