BEGIN:VCALENDAR
VERSION:2.0
PRODID:-//ChamberMaster//Event Calendar 2.0//EN
METHOD:PUBLISH
X-PUBLISHED-TTL:P3D
REFRESH-INTERVAL:P3D
CALSCALE:GREGORIAN
BEGIN:VEVENT
DTSTART:20240413T190000Z
DTEND:20240413T220000Z
X-MICROSOFT-CDO-ALLDAYEVENT:FALSE
SUMMARY:Hog Island Yappy Hour
DESCRIPTION:Bring along your beloved furry companion for a unique experience on the Garden Terrace. Indulge in the best of local craft beer while soaking in the stunning vistas of Pleasant Bay\, all while your furry friend socializes and forms new bonds. Feeling hungry? Dive into our exclusive 'hot dog' menu boasting a delectable variety of toppings and irresistible pretzels! \n\nCapture the paw-fect moments with your furry best friend at Yappy Hour! Kim Reilly Photography presents Mini Dog Photo Sessions. Whether it's just your pup or the whole family\, cherish these precious moments forever. Sessions are quick\, only 15 minutes. Reserve your spot now for an unforgettable bonding experience.
X-ALT-DESC;FMTTYPE=text/html:<p>Bring along your beloved furry companion for a unique experience on the Garden Terrace.&nbsp\;Indulge in the best of local craft beer while soaking in the stunning vistas of Pleasant Bay\, all while your furry friend socializes and forms new bonds. Feeling hungry? Dive into our exclusive &#39\;hot dog&#39\; menu boasting a delectable variety of toppings and irresistible pretzels!&nbsp\;</p>\n\n<p>Capture the paw-fect moments with your furry best friend at Yappy Hour! Kim Reilly Photography presents Mini&nbsp\;Dog Photo Sessions.&nbsp\;Whether it&rsquo\;s just your pup or the whole family\, cherish these precious moments forever.&nbsp\;Sessions are quick\, only 15 minutes.&nbsp\;<a href="https://book.usesession.com/s/hjgb5FUdZ" style="box-sizing: border-box\; background: transparent\; color: rgb(0\, 148\, 215)\; text-decoration-line: none\;">Reserve</a> your spot now for an unforgettable bonding experience.&nbsp\;</p>\n
LOCATION:Wequassett Resort
UID:e.1945.25219
SEQUENCE:3
DTSTAMP:20260421T010003Z
URL:http://harwichcc.chambermaster.com/events/details/hog-island-yappy-hour-25219
END:VEVENT

END:VCALENDAR
