BEGIN:VCALENDAR
VERSION:2.0
PRODID:-//ChamberMaster//Event Calendar 2.0//EN
METHOD:PUBLISH
X-PUBLISHED-TTL:P3D
REFRESH-INTERVAL:P3D
CALSCALE:GREGORIAN
BEGIN:VEVENT
DTSTART:20231026T140000Z
DTEND:20231026T180000Z
X-MICROSOFT-CDO-ALLDAYEVENT:FALSE
SUMMARY:Lend us a Hand
DESCRIPTION:Harwich Community Center Game Room is getting a makeover!\n\nDrop in and leave a handprint to help decorate our wall!
X-ALT-DESC;FMTTYPE=text/html:Harwich Community Center Game Room is getting a makeover!<br />\nDrop in and leave a handprint to help decorate our wall!
LOCATION:Harwich Community Center 100 Oak Street Harwich Center
UID:e.1945.25026
SEQUENCE:3
DTSTAMP:20260420T235646Z
URL:http://harwichcc.chambermaster.com/events/details/lend-us-a-hand-25026
END:VEVENT

END:VCALENDAR
