BEGIN:VCALENDAR
VERSION:2.0
PRODID:-//ChamberMaster//Event Calendar 2.0//EN
METHOD:PUBLISH
X-PUBLISHED-TTL:P3D
REFRESH-INTERVAL:P3D
CALSCALE:GREGORIAN
BEGIN:VEVENT
DTSTART:20230506T170000Z
DTEND:20230506T180000Z
X-MICROSOFT-CDO-ALLDAYEVENT:FALSE
SUMMARY:Mad Science: Fire & Ice
DESCRIPTION:This spectacular show thrills audiences with impressive science experiments. The event includes foggy dry ice storms and demonstrates how giant beach balls can float in the air. Students are amazed by sizzling\, shivering scissors and special bubbly showers!
X-ALT-DESC;FMTTYPE=text/html:<strong><span style="font-size:16px\;"><span style="font-family:comic sans ms\;"><span style="color:#339999\;">This spectacular show thrills audiences with impressive science experiments. The event includes foggy dry ice storms and demonstrates how giant beach balls can float in the air. Students are amazed by sizzling\, shivering scissors and special bubbly showers!</span></span></span> </strong>
LOCATION:The 204 204 Sisson Road Harwich
UID:e.1945.24507
SEQUENCE:3
DTSTAMP:20260423T224046Z
URL:http://harwichcc.chambermaster.com/events/details/mad-science-fire-ice-24507
END:VEVENT

END:VCALENDAR
