BEGIN:VCALENDAR
VERSION:2.0
PRODID:-//ChamberMaster//Event Calendar 2.0//EN
METHOD:PUBLISH
X-PUBLISHED-TTL:P3D
REFRESH-INTERVAL:P3D
CALSCALE:GREGORIAN
BEGIN:VEVENT
DTSTART:20230219T170000Z
DTEND:20230219T210000Z
X-MICROSOFT-CDO-ALLDAYEVENT:FALSE
SUMMARY:Money\, Magic and Mindset Workshop
DESCRIPTION:Money\, Magic and Mindset Workshop for Women\n\nThis workshop will lead you to...Let more money into your life\, Spiritual and practical applications. Release limiting beliefs. Transformational exercises\, journaling and visualizations. Inner journey for expansion\, joy and abundance. \n\nFor entrepreneurs\, moms\, artists\, spiritual women\, business owners etc.
X-ALT-DESC;FMTTYPE=text/html:<p><span style="color:#008000\;"><strong>Money\, Magic and Mindset Workshop for Women</strong></span></p>\n\n<p><span style="color:#008000\;">This workshop will lead you to...Let more money into your life\, Spiritual and practical applications. Release limiting beliefs. Transformational exercises\, journaling and visualizations. Inner journey for expansion\, joy and abundance.&nbsp\;</span></p>\n\n<p><span style="color:#008000\;">For entrepreneurs\, moms\, artists\, spiritual women\, business owners etc.</span></p>\n
LOCATION:Lydia Leclair Photography 546-B Route 28 Harwich Port
UID:e.1945.24473
SEQUENCE:3
DTSTAMP:20260425T151025Z
URL:http://harwichcc.chambermaster.com/events/details/money-magic-and-mindset-workshop-24473
END:VEVENT

END:VCALENDAR
