BEGIN:VCALENDAR
VERSION:2.0
PRODID:-//ChamberMaster//Event Calendar 2.0//EN
METHOD:PUBLISH
X-PUBLISHED-TTL:P3D
REFRESH-INTERVAL:P3D
CALSCALE:GREGORIAN
BEGIN:VEVENT
DTSTART:20240706T230000Z
DTEND:20240708T003000Z
X-MICROSOFT-CDO-ALLDAYEVENT:FALSE
SUMMARY:Robin Hood
DESCRIPTION:Kirsten Peacock and Nick Nudler's reimagining of the classic tale. Experience our outdoor theatre space in a whole new way with this immersive medieval romp! This rollicking adventure features a rambunctious ensemble\, a live score\, and wit as sharp as the swordplay.
X-ALT-DESC;FMTTYPE=text/html:Kirsten Peacock and Nick Nudler&rsquo\;s reimagining of the classic tale. Experience our outdoor theatre space in a whole new way with this immersive medieval romp! This rollicking adventure features a rambunctious ensemble\, a live score\, and wit as sharp as the swordplay.
LOCATION:CCTC/HJT 105 Division St. West Harwich\, Ma 02671 Outdoor Theatre
UID:e.1945.25250
SEQUENCE:3
DTSTAMP:20260420T202950Z
URL:http://harwichcc.chambermaster.com/events/details/robin-hood-25250
END:VEVENT

END:VCALENDAR
