BEGIN:VCALENDAR
VERSION:2.0
PRODID:-//ChamberMaster//Event Calendar 2.0//EN
METHOD:PUBLISH
X-PUBLISHED-TTL:P3D
REFRESH-INTERVAL:P3D
CALSCALE:GREGORIAN
BEGIN:VEVENT
DTSTART:20240421T190000Z
DTEND:20240421T210000Z
X-MICROSOFT-CDO-ALLDAYEVENT:FALSE
SUMMARY:The Highwaymen
DESCRIPTION:Christ Church Episcopal welcomes all to enjoy the inspiring music of The Highwaymen. -Matt York performs songs\, stories & gospel-inspired music of Johnny Cash\, Willie Nelson\, Waylon Jennings\, Kris Kristofferson.
X-ALT-DESC;FMTTYPE=text/html:<span style="font-size:14px\;"><span style="font-family:verdana\;"><span style="color:#008000\;"><strong>Christ Church Episcopal welcomes all to enjoy the inspiring music of The Highwaymen. -Matt York performs songs\, stories &amp\; gospel-inspired music of Johnny Cash\, Willie Nelson\, Waylon Jennings\, Kris Kristofferson.</strong></span></span></span>
LOCATION:671 Route 28 Harwich Port
UID:e.1945.25218
SEQUENCE:3
DTSTAMP:20260419T202026Z
URL:http://harwichcc.chambermaster.com/events/details/the-highwaymen-25218
END:VEVENT

END:VCALENDAR
