BEGIN:VCALENDAR
VERSION:2.0
PRODID:-//ChamberMaster//Event Calendar 2.0//EN
METHOD:PUBLISH
X-PUBLISHED-TTL:P3D
REFRESH-INTERVAL:P3D
CALSCALE:GREGORIAN
BEGIN:VEVENT
DTSTART:20230429T140000Z
DTEND:20230429T160000Z
X-MICROSOFT-CDO-ALLDAYEVENT:FALSE
SUMMARY:Tour de Trash
DESCRIPTION:Help Clean Up Harwich! Annual Tour de Trash\n\nGather your friends\, family\, coworkers and neighbors to help clean up Harwich.\n\nThis event is a joint effort between the Town Conservation Department and the Harwich Conservation Trust\, with assistance and support from AmeriCorps Cape Cod\, the Police\, Fire\, and Highway Departments. In 2022\, 101 Tour de Trash volunteers removed over 640 pounds of trash and recycling from roadsides\, woodlands\, and beaches around town!\n\nPlease bring water and dress appropriately for the weather as well as for walking. Separate bags for trash and recyclables will be provided\, along with reflective vests\, pickers\, and disposable nitrile gloves. Rain will cancel the event.\n\nPlease consider joining the camaraderie by signing up and selecting your Tour de Trash route using the link below!
X-ALT-DESC;FMTTYPE=text/html:<p>Help Clean Up Harwich! Annual Tour de Trash</p>\n\n<p>Gather your friends\, family\, coworkers and neighbors to help clean up Harwich.</p>\n\n<p style="box-sizing: border-box\; margin: 0px 0px 10px\; color: rgb(85\, 85\, 85)\; font-family: Raleway\, sans-serif\; font-size: 16px\;">This event is a joint effort between the Town Conservation Department and the Harwich Conservation Trust\, with assistance and support from AmeriCorps Cape Cod\, the Police\, Fire\, and Highway Departments. In 2022\, 101 Tour de Trash volunteers removed over 640 pounds of trash and recycling from roadsides\, woodlands\, and beaches around town!</p>\n\n<p style="box-sizing: border-box\; margin: 0px 0px 10px\; color: rgb(85\, 85\, 85)\; font-family: Raleway\, sans-serif\; font-size: 16px\;">Please bring water and dress appropriately for the weather as well as for walking. Separate bags for trash and recyclables will be provided\, along with reflective vests\, pickers\, and disposable nitrile gloves. Rain will cancel the event.</p>\n\n<p style="box-sizing: border-box\; margin: 0px 0px 10px\; color: rgb(85\, 85\, 85)\; font-family: Raleway\, sans-serif\; font-size: 16px\;">Please consider joining the camaraderie by signing up and selecting your Tour de Trash route using the link below!</p>\n
LOCATION:Harwich Community Center 100 Oak Street Harwich
UID:e.1945.24502
SEQUENCE:3
DTSTAMP:20260423T165635Z
URL:http://harwichcc.chambermaster.com/events/details/tour-de-trash-24502
END:VEVENT

END:VCALENDAR
