BEGIN:VCALENDAR
VERSION:2.0
PRODID:-//ChamberMaster//Event Calendar 2.0//EN
METHOD:PUBLISH
X-PUBLISHED-TTL:P3D
REFRESH-INTERVAL:P3D
CALSCALE:GREGORIAN
BEGIN:VEVENT
DTSTART:20220514T140000Z
DTEND:20220514T180000Z
X-MICROSOFT-CDO-ALLDAYEVENT:FALSE
SUMMARY:Walk n' Wag
DESCRIPTION:Walk n' Wag \n\nPlease Park at the Cape Cod Regional Technical High and then walk down to the Hinckley's Pond-Herring River Headwaters Preserve.\n\nBring your dog to HCT's newest conservation destination and enjoy music\, food and friends!   Dogs must be leashed at all times. The event is free. Donations are welcome.
X-ALT-DESC;FMTTYPE=text/html:<span style="font-size:26px\;"><strong>Walk n&#39\; Wag&nbsp\;</strong></span><br />\n<span style="font-size:20px\;"><span style="font-family:comic sans ms\;">Please Park at the Cape Cod Regional Technical High and then walk down to the Hinckley&#39\;s Pond-Herring River Headwaters Preserve.<br />\nBring your dog to HCT&#39\;s newest conservation destination and enjoy music\, food and friends!&nbsp\; &nbsp\;Dogs must be leashed at all times. The event is free. Donations are welcome.</span></span>
LOCATION:Hinckley's Pond-Herring River Headwaters Preserve.
UID:e.1945.24352
SEQUENCE:3
DTSTAMP:20260423T040033Z
URL:http://harwichcc.chambermaster.com/events/details/walk-n-wag-24352
END:VEVENT

END:VCALENDAR
