BEGIN:VCALENDAR
VERSION:2.0
PRODID:-//ChamberMaster//Event Calendar 2.0//EN
METHOD:PUBLISH
X-PUBLISHED-TTL:P3D
REFRESH-INTERVAL:P3D
CALSCALE:GREGORIAN
BEGIN:VEVENT
DTSTART:20231006T230000Z
DTEND:20231030T010000Z
X-MICROSOFT-CDO-ALLDAYEVENT:FALSE
SUMMARY:Young Frankenstein
DESCRIPTION:Directed by Bob Wilder Musical Direction by Bob Wilder Choreographed by Suzette Hutchinson October 6 - 29 Fridays and Saturdays at 7 PM Sundays at 3 PM Thursdays - 10/19 and 10/26 at 7 PM Young Frankenstein the Musical\, based on the 1974 Mel Brooks comedy of the same name\, will be performed at the Cape Cod Theatre Company throughout the month of October. The grandson of Victor Frankenstein (which is pronounced "Fronk-en-steen") arrives in Transylvania after inheriting the family's estate. But when the famed monster escapes\, hilarity ensues. Come see this comedic production on the main stage in Harwich! Performances run October 6 - 29 with Friday and Saturday shows at 7 PM and Sunday shows at 3 PM. Two Thursday performances - October 19 and October 26 - will be held at 7 PM.
X-ALT-DESC;FMTTYPE=text/html:Directed by Bob Wilder Musical Direction by Bob Wilder Choreographed by Suzette Hutchinson October 6 - 29 Fridays and Saturdays at 7 PM Sundays at 3 PM Thursdays - 10/19 and 10/26 at 7 PM Young Frankenstein the Musical\, based on the 1974 Mel Brooks comedy of the same name\, will be performed at the Cape Cod Theatre Company throughout the month of October. The grandson of Victor Frankenstein (which is pronounced &quot\;Fronk-en-steen&quot\;) arrives in Transylvania after inheriting the family&#39\;s estate. But when the famed monster escapes\, hilarity ensues. Come see this comedic production on the main stage in Harwich! Performances run October 6 - 29 with Friday and Saturday shows at 7 PM and Sunday shows at 3 PM. Two Thursday performances - October 19 and October 26 - will be held at 7 PM.
LOCATION:Cape Cod Theatre Company | Harwich Junior Theatre
UID:e.1945.25008
SEQUENCE:3
DTSTAMP:20260422T141315Z
URL:http://harwichcc.chambermaster.com/events/details/young-frankenstein-25008
END:VEVENT

END:VCALENDAR
